BEGIN:VCALENDAR
VERSION:2.0
PRODID:icalendar-ruby
CALSCALE:GREGORIAN
BEGIN:VEVENT
DTSTAMP:20210122T072354Z
UID:2c718e6d-97c2-480c-82b9-66ec8c513643
DTSTART;VALUE=DATE:20200325
DESCRIPTION:Property ID# 474671\, Time: 4:00PM
SUMMARY:Auction for 
END:VEVENT
END:VCALENDAR
