BEGIN:VCALENDAR
VERSION:2.0
PRODID:icalendar-ruby
CALSCALE:GREGORIAN
BEGIN:VEVENT
DTSTAMP:20210122T072401Z
UID:39b6f264-96db-4f68-8327-9d13fb35f3e5
DTSTART;VALUE=DATE:20200903
DESCRIPTION:Property ID# 487061\, Time: 4:00PM
SUMMARY:Auction for 
END:VEVENT
END:VCALENDAR
